BEGIN:VCALENDAR
VERSION:2.0
PRODID:-//Lily &amp; Sage Farm - ECPv6.15.20//NONSGML v1.0//EN
CALSCALE:GREGORIAN
METHOD:PUBLISH
X-WR-CALNAME:Lily &amp; Sage Farm
X-ORIGINAL-URL:https://lilyandsagefarm.com
X-WR-CALDESC:Events for Lily &amp; Sage Farm
REFRESH-INTERVAL;VALUE=DURATION:PT1H
X-Robots-Tag:noindex
X-PUBLISHED-TTL:PT1H
BEGIN:VTIMEZONE
TZID:America/New_York
BEGIN:DAYLIGHT
TZOFFSETFROM:-0500
TZOFFSETTO:-0400
TZNAME:EDT
DTSTART:20250309T070000
END:DAYLIGHT
BEGIN:STANDARD
TZOFFSETFROM:-0400
TZOFFSETTO:-0500
TZNAME:EST
DTSTART:20251102T060000
END:STANDARD
BEGIN:DAYLIGHT
TZOFFSETFROM:-0500
TZOFFSETTO:-0400
TZNAME:EDT
DTSTART:20260308T070000
END:DAYLIGHT
BEGIN:STANDARD
TZOFFSETFROM:-0400
TZOFFSETTO:-0500
TZNAME:EST
DTSTART:20261101T060000
END:STANDARD
BEGIN:DAYLIGHT
TZOFFSETFROM:-0500
TZOFFSETTO:-0400
TZNAME:EDT
DTSTART:20270314T070000
END:DAYLIGHT
BEGIN:STANDARD
TZOFFSETFROM:-0400
TZOFFSETTO:-0500
TZNAME:EST
DTSTART:20271107T060000
END:STANDARD
END:VTIMEZONE
BEGIN:VEVENT
DTSTART;TZID=America/New_York:20260725T093000
DTEND;TZID=America/New_York:20260725T120000
DTSTAMP:20260423T085111
CREATED:20260226T145937Z
LAST-MODIFIED:20260226T151956Z
UID:609-1784971800-1784980800@lilyandsagefarm.com
SUMMARY:Garden Club 2026
DESCRIPTION:Tickets will be available soon. \nGarden club dates are July 25th & September 19th 2026 9:30am -12:00pm \nContinue to keep an eye on socials for more information. Join our Email list for updates\, it can be found on the home page. or this link lilyandsagefarm.com/join-our-e-mail-list \nLooking forward to meeting you\, introducing you to the Farm and out Farm Store vendors.
URL:https://lilyandsagefarm.com/event/garden-club-2026/
LOCATION:Lily and Sage Farm\, 10537 Byron Center Ave SW\, Byron Center\, MI\, 49315\, United States
ORGANIZER;CN="Lily and Sage Farm":MAILTO:nbirdsall85@gmail.com
END:VEVENT
BEGIN:VEVENT
DTSTART;TZID=America/New_York:20260801T000000
DTEND;TZID=America/New_York:20260801T235959
DTSTAMP:20260423T085111
CREATED:20260226T150604Z
LAST-MODIFIED:20260226T150844Z
UID:612-1785542400-1785628799@lilyandsagefarm.com
SUMMARY:August- September U-picks
DESCRIPTION:Escape the noise and chaos of the world and connect. \nComing this summer 2026 August & September \nCome and relax. Enjoy creation like you never have before while you create something beautiful THEN get to take it home. \nWe are looking forward to meeting you. More information coming soon.
URL:https://lilyandsagefarm.com/event/august-september-u-picks/
END:VEVENT
END:VCALENDAR